BEGIN:VCALENDAR
VERSION:2.0
BEGIN:VEVENT
CLASS:PUBLIC
CATEGORIES:MEETING
DTSTART;TZID=America/Los_Angeles:20120412T214500
DTEND;TZID=America/Los_Angeles:20120412T214500
SUMMARY:Tribune at Funhouse Seattle
DESCRIPTION:Price: $5.00\nAge Limit: 21+\n\nDetails: AAE is in Seattle and Presents TRIBUNE!! 1 of Canada&#39;s most powerful bands, they bring their destructive sound to the NorthWest! Lefthead, Beyond Theory, and Stoic to the mix! 
LOCATION:Funhouse Seattle - 206 5th Ave N, Seattle, WA, 98109, US
END:VEVENT

END:VCALENDAR
