BEGIN:VCALENDAR
VERSION:2.0
BEGIN:VEVENT
CLASS:PUBLIC
CATEGORIES:MEETING
DTSTART;TZID=America/Los_Angeles:20090215T210000
DTEND;TZID=America/Los_Angeles:20090215T210000
SUMMARY:Sligo Rags at Queen Mary Events Park
DESCRIPTION:Details: Concert by Sligo Rags In conjunction with the Queen Mary Scottish Festival!nThe Queen Maryn1126 Queen’s Highway, Long Beach, Ca. 90802 n(562) 435-3511
LOCATION:Queen Mary - 1126 Queens Hwy, Long Beach, CA, 90802, US
END:VEVENT

END:VCALENDAR
