BEGIN:VCALENDAR
VERSION:2.0
BEGIN:VEVENT
CLASS:PUBLIC
CATEGORIES:MEETING
DTSTART;TZID=America/New_York:20120113T190000
DTEND;TZID=America/New_York:20120113T190000
SUMMARY:Masankho Banda at Sounds of Hope shows @ Potter's House
DESCRIPTION:Price: It&#39;s a FUNdraiser: sliding scale $15- $50 at the door\nAge Limit: All Ages\n\nDetails: http://www.ucandance.org\nMasankho Banda is a native of Malawi who helps the world by teaching peace and fostering healing with Interplay Stories, Music, Drumming and Dance\n\nhttp://www.BokamosoYouth.org\nBokamoso means &quot;future&quot; in Setswana, the language of South Africa. Since 1999 this non-profit has helped hundreds of young people survive &amp; thrive amidst the poverty crime and despair of the AIDS epidemic. Each year 12 youth from the Centre in Winterveld (near Pretoria) are selected for a month long exchange program and performance tour in the US. \n\nCome hear, see, support and receive smiles and inspiration! This is their 3rd annual Sounds of Hope event!
LOCATION:Sounds of Hope shows @ Potter's House - 1658 Columbia Rd NW, Washington, DC, 20009, US
END:VEVENT

END:VCALENDAR
