BEGIN:VCALENDAR
VERSION:2.0
BEGIN:VEVENT
CLASS:PUBLIC
CATEGORIES:MEETING
DTSTART;TZID=America/Los_Angeles:20120113T180000
DTEND;TZID=America/Los_Angeles:20120113T180000
SUMMARY:Ruinist at Electric Ladyland
DESCRIPTION:Price: $10\nAge Limit: All Ages
LOCATION:Electric Ladyland - 4944 Newport Ave, Ocean Beach, CA, 92107, US
END:VEVENT

END:VCALENDAR
