BEGIN:VCALENDAR
VERSION:2.0
BEGIN:VEVENT
CLASS:PUBLIC
CATEGORIES:MEETING
DTSTART;TZID=Pacific/Auckland:20111210T100000
DTEND;TZID=Pacific/Auckland:20111210T100000
SUMMARY:Phreaze at NZ Hip Hop Summit @ The Dream Centre
DESCRIPTION:Price: Gold Coin Event\nAge Limit: All Ages\n\nDetails: When the &quot;BOP&quot; from Samoa &amp; Beat Street arrived in NZ in the 80s, it gave birth to a new youth movement who fought to have Hip Hop accepted in a ROCK music dominated country of New Zealand in the 80s.\n\n30 years later the care takers who took care &amp; nurtured the NZ Hip Hop culture to where it is today have come together to pass the torch to the next generation in a one o...f a kind educational event to establish our NZ hip hop history in who our DJ Kool Herc &amp; Afrika Bambaataa of New Zealand were.\n\n&quot;Knowing where you come from is the foundation you stand on, that inspires where you want to go....&amp; go for it!&quot;\n\n\nSo come experience a NZ Hip Hop family day out with:\n- New local talent\n- Local Hip Hop favorites\n- Hip hop flea market\n- Live Graff exhibition hosted by FDKNS\n- Bboy / Bgirl jam session\n- Record you own demo\n- Demo listening booths\n- DJ workshop tutorial with Ned Roy\ncovering: Serato, CDJs, Vinyls, how to keep crowd pumpin, How to battle,\nKnow your equipment\n- Workshop panels: Graff Trends, DJing history, Future for MCs, Bboy &amp; Bgirls\nDance future trends\n- NZ Hip Hop Old School exhibition gallery\n- Careers &amp; Tertiary educational stalls\n- Hip Hop kids bouncy castle\n- Filming of a documentary &quot;Where dreams come true - birth of Hip Hop&quot;\n- Graff Battle by Sage from GMD &amp; FDKNS\nCalling all hip hop heads... come &amp; sharpen yo skills &amp; register now to participate in your elements of:\n1.) DJing\n2,) Bboy &amp; Bgirl\n3.) MCs\n4.) Graff\n5.) Beatboxing\n6.) Steez / Your unique style of clothing\n7.) Producing / Beat making\n8.) Hip Hop music Video makers\n9.) Hip Hop media broadcaster - Radio announcer / Magazine journalist\n10.) Hip hop entrepreneurship - Record label / Clothing label owner\n\n10th of December 2011 - Dream center Manukau\n\nSEE YOU THERE OR SEE YOU NEXT YEAR!\n\nPEACE FAMZ! GOD BLESS!\n\n(open as WORD)http://nzhiphopsummit.com/nz-hip-hop-summit-registration-forms-2/\n\nGOLD COIN EVENT SEE YOU THERE PEACE!
LOCATION:NZ Hip Hop Summit @ The Dream Centre - 3 Lakewood Court, Wiri, Manukau City, Auckland, NZ
END:VEVENT

END:VCALENDAR
