BEGIN:VCALENDAR
VERSION:2.0
BEGIN:VEVENT
CLASS:PUBLIC
CATEGORIES:MEETING
DTSTART;TZID=Australia/Brisbane:20111127T120000
DTEND;TZID=Australia/Brisbane:20111127T120000
SUMMARY:Urban Prophetz at First Contact Festival @ Robbie Williams Sports Reserve
DESCRIPTION:Age Limit: All Ages\n\nDetails: Sports, Food, Stalls &amp; Entertainment!!
LOCATION:First Contact Festival @ Robbie Williams Sports Reserve - Boundary Road (off Cleveland Road), Coorparoo, QLD, AU
END:VEVENT

END:VCALENDAR
