BEGIN:VCALENDAR
VERSION:2.0
BEGIN:VEVENT
CLASS:PUBLIC
CATEGORIES:MEETING
DTSTART;TZID=Australia/Brisbane:20111112T100000
DTEND;TZID=Australia/Brisbane:20111112T100000
SUMMARY:Urban Prophetz at Celebrate Pasifika @ Evan Marginson Park
DESCRIPTION:Price: Free\nAge Limit: All Ages\n\nDetails: Fun Food &amp; Entertainment celebrating Pacific Cultures!
LOCATION:Celebrate Pasifika @ Evan Marginson Park - Woogaroo Street, Goodna, QLD, AU
END:VEVENT

END:VCALENDAR
