BEGIN:VCALENDAR
VERSION:2.0
BEGIN:VEVENT
CLASS:PUBLIC
CATEGORIES:MEETING
DTSTART;TZID=Australia/Brisbane:20111029T120000
DTEND;TZID=Australia/Brisbane:20111029T120000
SUMMARY:Urban Prophetz at Tuwharetoa Taupo Day
DESCRIPTION:Age Limit: All Ages\n\nDetails: Saturday 29th of October 2011\nMaumahara - 587 Beenleigh Redland Bay Road - Carbrook - Brisbane\n\n12pm - 7pm\nAdults: Gold Coin Entry\nFree for kids under 15\n\nFree Kids Rides - Live Entertainment - Hangi - Stalls And Many More\n\n\nPeformances by:\n- Kaha - https://www.facebook.com/kaha.eNtertainment\n- Urban Prophetz - https://www.facebook.com/UrbanProphetz\n- Klimax - https://www.facebook.com/pages/Klimax/121266977920119\n- Impakt - https://www.facebook.com/impaktmusic\n- DJ Jox\nMore to come!!
LOCATION:Tuwharetoa Taupo Day - Beenleigh-Redland Bay Rd, Logan City, QLD, 4130, AU
END:VEVENT

END:VCALENDAR
