BEGIN:VCALENDAR
VERSION:2.0
BEGIN:VEVENT
CLASS:PUBLIC
CATEGORIES:MEETING
DTSTART;TZID=America/Denver:20111007T190000
DTEND;TZID=America/Denver:20111007T190000
SUMMARY:Aleister Wild at Union Station
DESCRIPTION:Price: $5 21+  $10 under 21 Military ID Gets in Free\nAge Limit: 18+ or w/ adult\n\nDetails: Military Appreciation!!!!  No cover and $2.00 bottles with Military ID.\n
LOCATION:Union Station - 2419 N Union Blvd, Colorado Springs, CO, 80909, US
END:VEVENT

END:VCALENDAR
