BEGIN:VCALENDAR
VERSION:2.0
BEGIN:VEVENT
CLASS:PUBLIC
CATEGORIES:MEETING
DTSTART;TZID=America/Los_Angeles:20110927T200000
DTEND;TZID=America/Los_Angeles:20110927T200000
SUMMARY:Duckmandu at Funhouse Seattle
DESCRIPTION:Price: $5.00\nAge Limit: 21+
LOCATION:Funhouse Seattle - 206 5th Ave N, Seattle, WA, 98109, US
END:VEVENT

END:VCALENDAR
