BEGIN:VCALENDAR
VERSION:2.0
BEGIN:VEVENT
CLASS:PUBLIC
CATEGORIES:MEETING
DTSTART;TZID=Australia/Sydney:20111023T100000
DTEND;TZID=Australia/Sydney:20111023T100000
SUMMARY:Phreaze at CROSSING THA STREETZ @ Ropes Crossing
DESCRIPTION:Price: FREE\nAge Limit: All Ages\n\nDetails: UPR ENTERTAINMENT &amp; ROPES CROSSING PRESENTS....\n\nCROSSING THA STREETZ - 3 on 3 Street Style Dance Battle &amp; Hip Hop Showcase Hosted by PHREAZE!!\n\nOn Sunday 23rd October, Street Style Dance Crews will go head to head as we Cross Multiple Street Dance Elements in one Massive 3 on 3 competition as part of the ROPES CROSSING BIRTHDAY BASH!!\n...\n1ST PRIZE $500\n2ND PRIZE $400\n3RD PRIZE of $200\n\nJUDGES\nDarrio Phillips (DARRIO STREET DANCE)\nPatrick Phouthavong (JUSE CREW)\nStacy Peke (DEJA CREW)\n\nMAP: http://www.whereis.com/nsw/ropes-crossing?id=442187BD4E4F0\n\nSee Facebook for details: http://www.facebook.com/event.php?eid=279646928713697
LOCATION:CROSSING THA STREETZ @ Ropes Crossing - Village Green, ROPES CROSSING, NSW, 2760, AU
END:VEVENT

END:VCALENDAR
