BEGIN:VCALENDAR
VERSION:2.0
BEGIN:VEVENT
CLASS:PUBLIC
CATEGORIES:MEETING
DTSTART;TZID=America/Chicago:20111015T190000
DTEND;TZID=America/Chicago:20111015T190000
SUMMARY:Dirigiri at The Rockwell
DESCRIPTION:Price: TBA\nAge Limit: 21+\n\nDetails: This show will murder SATX!
LOCATION:The Rockwell - San Antonio, TX, US
END:VEVENT

END:VCALENDAR
