BEGIN:VCALENDAR
VERSION:2.0
BEGIN:VEVENT
CLASS:PUBLIC
CATEGORIES:MEETING
DTSTART;TZID=America/New_York:20110916T210000
DTEND;TZID=America/New_York:20110916T210000
SUMMARY:GOATWHORE at COASTERS
DESCRIPTION:Price: $10\nAge Limit: 18+
LOCATION:COASTERS - 214 Miracle Strip Pkwy, Fort Walton, FL, 32548, US
END:VEVENT

END:VCALENDAR
