BEGIN:VCALENDAR
VERSION:2.0
BEGIN:VEVENT
CLASS:PUBLIC
CATEGORIES:MEETING
DTSTART;TZID=America/Chicago:20110916T210000
DTEND;TZID=America/Chicago:20110916T210000
SUMMARY:Dismystic at The Tank
DESCRIPTION:Price: No Cover Show starts at 9pm.\nAge Limit: 18+\n\nDetails: For Shame and Dismystic cd release party with Perfect Dark. $5 CDs for sale.
LOCATION:The Tank - 127 S John Sims Pkwy, Valparaiso, FL, 32580, US
END:VEVENT

END:VCALENDAR
