BEGIN:VCALENDAR
VERSION:2.0
BEGIN:VEVENT
CLASS:PUBLIC
CATEGORIES:MEETING
DTSTART;TZID=America/Chicago:20110917T193000
DTEND;TZID=America/Chicago:20110917T193000
SUMMARY:New Earth Army at Funky Blues Shack
DESCRIPTION:Price: $5 Donation!!!\nAge Limit: All Ages\n\nDetails: &quot;Rock for Hollie&quot;\nHelp us raise funds for our friend Hollie who was recently diagnosed with cancer!  All proceeds go to her upcoming medical bills.
LOCATION:Funky Blues Shack - Hwy 98 E, Destin, FL, 32541, US
END:VEVENT

END:VCALENDAR
