BEGIN:VCALENDAR
VERSION:2.0
BEGIN:VEVENT
CLASS:PUBLIC
CATEGORIES:MEETING
DTSTART;TZID=Australia/Brisbane:20110902T150000
DTEND;TZID=Australia/Brisbane:20110902T150000
SUMMARY:Phreaze at Queen Street Mall Stage
DESCRIPTION:Price: Free\nClick here to buy tickets: http://www.facebook.com/event.php?eid=276009725748492\nAge Limit: All Ages\n\nDetails: By now you would have heard of the terrible tragedy that has occurred in Kingston/Slacks Creek (QLD) recently, resulting in a devastating loss of life in our community.  A number of organisations and individuals have united to host a huge fundraising effort in support of the LALE, MATAUAINA &amp; TAUFA families affected by the Fire. This event will see a MASSIVE 7 Hours of Local and International Entertainers perform at Brisbane&#39;s Inner City Queen Street Mall. Urban Prophetz (including Phreaze) will be performing a set in support of the event, while organisers will be accepting donations throughout the event on behalf of the families to be presented shortly after. See: http://www.facebook.com/event.php?eid=276009725748492 for more information on the event and we hope to see you there emptying your pockets for the cause!
LOCATION:Queen Street Mall Stage - Queen Street Mall, Brisbane, QLD, 4000, AU
END:VEVENT

END:VCALENDAR
