BEGIN:VCALENDAR
VERSION:2.0
BEGIN:VEVENT
CLASS:PUBLIC
CATEGORIES:MEETING
DTSTART;TZID=America/New_York:20110903T200000
DTEND;TZID=America/New_York:20110903T200000
SUMMARY:LINDA NOYES at AREA 7 Music
DESCRIPTION:Details: LINDA NOYES (DEBUT RECORDING ARTIST)  AREA 7 MUSIC &amp; ALE PRESENTS: LINDA NOYES LIVE IN CONCERT + many more accompanying Headliners!!! Featuring songs from upcoming Debut Album.................................... $10 Entry- (Ages 18-20)....... $5 Entry - Age 21+........... Cage / Stage / Pole / Billiards / Darts.......... Free Parking............ Home of the Pussy Bombs! ......... $20 All U Can Drink ......... $3 Shots............ $10 Buckets.............. Area 7 Music and Ale 3809 Powerline Rd. Oakland Park Fl 33309........ Brought to you by: AREA 7 Music &amp; Ale Misty Blue Music Productions http://www.mistybluemusicproductions.ezweb123.com............ We look forward to sharing this musical experience with you!
LOCATION:AREA 7 Music - 3809 Power Line Road, Fort Lauderdale, FL, 33309, US
END:VEVENT

END:VCALENDAR
