BEGIN:VCALENDAR
VERSION:2.0
BEGIN:VEVENT
CLASS:PUBLIC
CATEGORIES:MEETING
DTSTART;TZID=America/Chicago:20110916T210000
DTEND;TZID=America/Chicago:20110916T210000
SUMMARY:Crooked Eleven at The Swamp
DESCRIPTION:Price: $5 ATD\nAge Limit: 21+
LOCATION:The Swamp - Fort Walton Beach, FL, US
END:VEVENT

END:VCALENDAR
