BEGIN:VCALENDAR
VERSION:2.0
BEGIN:VEVENT
CLASS:PUBLIC
CATEGORIES:MEETING
DTSTART;TZID=America/Chicago:20110917T190000
DTEND;TZID=America/Chicago:20110917T190000
SUMMARY:Anna N Troy Unplugged at The Shed
DESCRIPTION:Age Limit: All Ages\n\nDetails: 7:00 to 10:00pm
LOCATION:The Shed - 100 Harbor Blvd, Destin, FL, 32541, US
END:VEVENT

END:VCALENDAR
