BEGIN:VCALENDAR
VERSION:2.0
BEGIN:VEVENT
CLASS:PUBLIC
CATEGORIES:MEETING
DTSTART;TZID=America/Los_Angeles:20110910T200000
DTEND;TZID=America/Los_Angeles:20110910T200000
SUMMARY:Bum City Saints at Eli's Mile High Club Oakland
DESCRIPTION:Age Limit: 21+\n\nDetails: BUM CITY SAINTS, THE 132, ANI DIFRANCO&#39;S DICK &amp; The Rinds!!!
LOCATION:Eli's Mile High Club Oakland - 3629 Martin Luther King Jr Way (between 36th St & 37th St), Oakland, CA, 94609, US
END:VEVENT

END:VCALENDAR
