BEGIN:VCALENDAR
VERSION:2.0
BEGIN:VEVENT
CLASS:PUBLIC
CATEGORIES:MEETING
DTSTART;TZID=America/Los_Angeles:20110910T150000
DTEND;TZID=America/Los_Angeles:20110910T150000
SUMMARY:The Gardes at Millennium Music In-Store Performance
DESCRIPTION:Price: free show\nAge Limit: All Ages\n\nDetails: show starts at 5 pm,\nline-up featuring Aaron Siemers, Brett Horton\nand Victoria
LOCATION:Millennium Music In-Store Performance - Portland, OR, 97214, US
END:VEVENT

END:VCALENDAR
