BEGIN:VCALENDAR
VERSION:2.0
BEGIN:VEVENT
CLASS:PUBLIC
CATEGORIES:MEETING
DTSTART;TZID=America/Chicago:20110902T200000
DTEND;TZID=America/Chicago:20110902T200000
SUMMARY:The Gardes at VZD's
DESCRIPTION:Price: $5.00\nAge Limit: 21+\n\nDetails: Show starts at 10 pm
LOCATION:VZD's - 4200 N Western Ave, Oklahoma City, OK, US
END:VEVENT

END:VCALENDAR
