BEGIN:VCALENDAR
VERSION:2.0
BEGIN:VEVENT
CLASS:PUBLIC
CATEGORIES:MEETING
DTSTART;TZID=Australia/Brisbane:20111112T220000
DTEND;TZID=Australia/Brisbane:20111112T220000
SUMMARY:Urban Prophetz at Miami Tavern Shark Bar
DESCRIPTION:Price: $12\nClick here to buy tickets: http://www.urbanprophetz.com\nAge Limit: 18+\n\nDetails: Urban Prophetz will perform a 30 Minute set at around 10pm, so please come on down and support if you&#39;re in the area! There will be plenty of giveaways and opportunity to catch up with the artists! Email info@urbanprophetz.com or leave us a message at www.facebook.com/urbanprophetz for tickets!
LOCATION:Miami Tavern Shark Bar - 2047 Gold Coast Hwy, Miami Qld, AU
END:VEVENT

END:VCALENDAR
