BEGIN:VCALENDAR
VERSION:2.0
BEGIN:VEVENT
CLASS:PUBLIC
CATEGORIES:MEETING
DTSTART;TZID=America/Denver:20110906T200000
DTEND;TZID=America/Denver:20110906T200000
SUMMARY:The Gardes at Quixote’s True Blue Cafe
DESCRIPTION:Price: 5.00\nAge Limit: 21+\n\nDetails: $5 cover, 10 pm- close\nline-up featuring Brett/Victoria
LOCATION:Quixote’s True Blue Cafe - 2151 Lawrence St, Denver, CO, 80205, US
END:VEVENT

END:VCALENDAR
