BEGIN:VCALENDAR
VERSION:2.0
BEGIN:VEVENT
CLASS:PUBLIC
CATEGORIES:MEETING
DTSTART;TZID=America/New_York:20110826T200000
DTEND;TZID=America/New_York:20110826T200000
SUMMARY:butterbeans at Moog's
DESCRIPTION:Price: TIPS!\nAge Limit: All Ages\n\nDetails: http://moogsplace.com/
LOCATION:Moog's - 97 Portland St, Morrisville, VT, 05661, US
END:VEVENT

END:VCALENDAR
