BEGIN:VCALENDAR
VERSION:2.0
BEGIN:VEVENT
CLASS:PUBLIC
CATEGORIES:MEETING
DTSTART;TZID=Australia/Brisbane:20110827T090000
DTEND;TZID=Australia/Brisbane:20110827T090000
SUMMARY:Urban Prophetz at Tauranga Moana Day @ The Whenua Brisbane
DESCRIPTION:Age Limit: All Ages\n\nDetails: Hosted by Tauranga for everyone. Free entry for kids 12 &amp; under. Games and rides. LIVE ENTERTAINMENT. Hangi. Stalls. Heaps of FUN!
LOCATION:Tauranga Moana Day @ The Whenua Brisbane - 587 Beenleigh-Redland Bay Rd, Logan, QLD, 4130, AU
END:VEVENT

END:VCALENDAR
