BEGIN:VCALENDAR
VERSION:2.0
BEGIN:VEVENT
CLASS:PUBLIC
CATEGORIES:MEETING
DTSTART;TZID=America/Los_Angeles:20110805T200000
DTEND;TZID=America/Los_Angeles:20110805T200000
SUMMARY:Blue Nose Music at Karma Indian Cuisine and Lounge
DESCRIPTION:Price: $5 Cover\nAge Limit: 21+\n\nDetails: HOSTED BY THUNDERCHIEF\nDJ SKREWBALL SPINNING ALL NIGHT\nGREAT DRINK SPECIALS\n$5 COVER/ 21+/ DRESS CODE/\nDOORS @ 8 MUSIC @ 9PM SHOW @ 10:30\n\nLIVE PERFORMANCES BY: ABOM KID, AR MASTERMIND, THUNDERCHIEF, Z DUB, CASTRONI, GREG DOUBLE, &amp; MORE!
LOCATION:Karma Indian Cuisine and Lounge - 12623 Merdian Ave E, Puyallup, WA, 98498, US
END:VEVENT

END:VCALENDAR
