BEGIN:VCALENDAR
VERSION:2.0
BEGIN:VEVENT
CLASS:PUBLIC
CATEGORIES:MEETING
DTSTART;TZID=America/New_York:20110910T193000
DTEND;TZID=America/New_York:20110910T193000
SUMMARY:Karyn Oliver at Howard County Historical Society
DESCRIPTION:Price: Suggested donation $20\nAge Limit: All Ages\n\nDetails: Bring a dish to share. This is a beautiful former church space with amazing acoustics, and great atmosphere. And it will likely be my last show as a &quot;local&quot; in the area, and therefor my last show in the area for awhile. It would be a great &quot;going away&quot; party!
LOCATION:Howard County Historical Society - 8328 Court Ave, Ellicott City, MD, 21043, US
END:VEVENT

END:VCALENDAR
