BEGIN:VCALENDAR
VERSION:2.0
BEGIN:VEVENT
CLASS:PUBLIC
CATEGORIES:MEETING
DTSTART;TZID=America/Caracas:20110716T220000
DTEND;TZID=America/Caracas:20110716T220000
SUMMARY:UNCO at Cherry's Diner
DESCRIPTION:Age Limit: All Ages
LOCATION:Cherry's Diner - Avenida Principal de Lecheria, c.c sednaya, frente al banco bicentenario, Barcelona, VE
END:VEVENT

END:VCALENDAR
