BEGIN:VCALENDAR
VERSION:2.0
BEGIN:VEVENT
CLASS:PUBLIC
CATEGORIES:MEETING
DTSTART;TZID=America/Chicago:20110603T200000
DTEND;TZID=America/Chicago:20110603T200000
SUMMARY:Rosenwall at Schotzi's
DESCRIPTION:Price: FREE!!\nAge Limit: 18+\n\nDetails: TEXAS RIOT!! returns to College Station for an acoustic show at Schotzi&#39;s on Northgate, and they&#39;re bringing their good friend Cody Williams from the band Rosenwall!!
LOCATION:Schotzi's - 209 University Dr E, College Station, TX, 77840, US
END:VEVENT

END:VCALENDAR
