BEGIN:VCALENDAR
VERSION:2.0
BEGIN:VEVENT
CLASS:PUBLIC
CATEGORIES:MEETING
DTSTART;TZID=Australia/Brisbane:20110827T090000
DTEND;TZID=Australia/Brisbane:20110827T090000
SUMMARY:Urban Prophetz at Pacific Unity Festival Brisbane @ Logan Gardens
DESCRIPTION:Price: Free\nAge Limit: All Ages\n\nDetails: Building Pacific Unity.\n\nOn Saturday 27th August 2011 Logan Gardens Civic Crt Logan Central will burst into life with sights, sound and flavours of New Zealand and the Pacific Islands – Welcome to the second annual Pacific Unity Festival.\n\nThe Pacific Unity Festival is a gathering of Pacific communities and the general public in Brisbane– celebrating together the multi-cultural diversity of Australia. The main aims of the day are... to raise awareness of Pacific communities, their businesses, sport and the support services that are made available to help the community.\n\nThe event format brings together sport (touch football tournament), food, arts, community service stalls and live performances at a single venue. To make the day even better ENTRY IS FREE.\n\nPacific Unity welcomes all people irrespective of age, ability, gender, sexual orientation, religion, political view and country of origin.\n\nPromoting the services and networks of the Pacific community will benefit people from all different backgrounds. Celebrating together at the Pacific Unity Festival is a fun and effective way of achieving many positive outcomes.\n\nExpressions of interest.\n\nThe 2011 Pacific Unity Festival is now taking expressions of interest for the following:\n\n• Festival volunteers\n• Touch Football teams ( mixed division only )\n• Market Stalls\n• Entertainers\n• Information Stalls\n\nFor more details regarding the Pacific Unity Festival please contact Lee Hemi, Promotions Co-ordinator directly on 0412 533 704 or e-mail-enquiries@pacificunity.org or check out our website www.pacificunity.org\n\nFor all entertainment contact Treicee Taufa on 0404-537-264 or\nemail treicee.pacificunity@gmail.com
LOCATION:Pacific Unity Festival Brisbane @ Logan Gardens - Civic Parade, Logan Central, QLD, 4114, AU
END:VEVENT

END:VCALENDAR
