BEGIN:VCALENDAR
VERSION:2.0
BEGIN:VEVENT
CLASS:PUBLIC
CATEGORIES:MEETING
DTSTART;TZID=America/Los_Angeles:20110916T200000
DTEND;TZID=America/Los_Angeles:20110916T200000
SUMMARY:Nappy Roots at Hell's Kitchen
DESCRIPTION:Price: $10 presale $15 dos\nAge Limit: 21+\n\nDetails: Nappy Roots  @ Hells Kitchen 9/16\nstarts @ 8 / 21+ / $10 presale $15 dos\nfeaturing local artists Blue Nose Music, Island Trybe, Awall aka 2piece, &amp; Tom Hutch
LOCATION:Hell's Kitchen - 928 Pacific Ave, Tacoma, WA, 98402, US
END:VEVENT

END:VCALENDAR
