BEGIN:VCALENDAR
VERSION:2.0
BEGIN:VEVENT
CLASS:PUBLIC
CATEGORIES:MEETING
DTSTART;TZID=America/Los_Angeles:20110910T130000
DTEND;TZID=America/Los_Angeles:20110910T130000
SUMMARY:Electra at Aloha Beach Festival
DESCRIPTION:Age Limit: All Ages
LOCATION:Aloha Beach Festival - Ventura, CA, US
END:VEVENT

END:VCALENDAR
