BEGIN:VCALENDAR
VERSION:2.0
BEGIN:VEVENT
CLASS:PUBLIC
CATEGORIES:MEETING
DTSTART;TZID=America/New_York:20110421T200000
DTEND;TZID=America/New_York:20110421T200000
SUMMARY:J.Lace at Club Kieko
DESCRIPTION:Price: $10.00\nAge Limit: All Ages\n\nDetails: $10 at the door, 18+ ladies 21+ fellas. Dress fly, Almost 10 hip hop performances that definitely shouldn&#39;t be missed!!!! Be there 751 Main st.
LOCATION:Club Kieko - 751 Main St, Worcester, MA, 01608, US
END:VEVENT

END:VCALENDAR
