BEGIN:VCALENDAR
VERSION:2.0
BEGIN:VEVENT
CLASS:PUBLIC
CATEGORIES:MEETING
DTSTART;TZID=America/Denver:20110521T193000
DTEND;TZID=America/Denver:20110521T193000
SUMMARY:Shambhu at Kelly's Barn
DESCRIPTION:Age Limit: All Ages
LOCATION:Kelly's Barn - 1360 Sumac Ave, Boulder, CO, 80304, US
END:VEVENT

END:VCALENDAR
