BEGIN:VCALENDAR
VERSION:2.0
BEGIN:VEVENT
CLASS:PUBLIC
CATEGORIES:MEETING
DTSTART;TZID=America/Sao_Paulo:20110416T230000
DTEND;TZID=America/Sao_Paulo:20110416T230000
SUMMARY:Ritchie at Virada Cultural Paulista 2011
DESCRIPTION:Price: Entrada Franca\nAge Limit: All Ages
LOCATION:Virada Cultural Paulista 2011 - Largo do Arouche, Republica, São Paulo, SP, 01219-011, BR
END:VEVENT

END:VCALENDAR
