BEGIN:VCALENDAR
VERSION:2.0
BEGIN:VEVENT
CLASS:PUBLIC
CATEGORIES:MEETING
DTSTART;TZID=America/Chicago:20111015T220000
DTEND;TZID=America/Chicago:20111015T220000
SUMMARY:Heather Go Psycho at The Mix
DESCRIPTION:Price: FREE\nAge Limit: 21+\n\nDetails: Jobber w/ Bandit 67 &amp; Heather Go Psycho! :)
LOCATION:The Mix - 2423 N St Mary's St, San Antonio, TX, 78212, US
END:VEVENT

END:VCALENDAR
