BEGIN:VCALENDAR
VERSION:2.0
BEGIN:VEVENT
CLASS:PUBLIC
CATEGORIES:MEETING
DTSTART;TZID=Australia/Darwin:20110507T170000
DTEND;TZID=Australia/Darwin:20110507T170000
SUMMARY:Urban Prophetz at Browns Mart
DESCRIPTION:Price: 20\nClick here to buy tickets: http://www.scorcherfest.com.au\nAge Limit: All Ages\n\nDetails: 2 Stages of massive talent including URBAN PROPHETZ all the way from Brisbane!
LOCATION:Browns Mart - Smith St, Darwin, NT, 0800, AU
END:VEVENT

END:VCALENDAR
