BEGIN:VCALENDAR
VERSION:2.0
BEGIN:VEVENT
CLASS:PUBLIC
CATEGORIES:MEETING
DTSTART;TZID=America/Chicago:20110305T190000
DTEND;TZID=America/Chicago:20110305T190000
SUMMARY:Illusions Fate at Black Hearts
DESCRIPTION:Price: $5\nAge Limit: 21+\n\nDetails: ILLUSIONS FATE and SPYDERBONE!\n\nParty bus picks up at 3394 N Milwaukee in Chicago and will be loaded with free keg beer. $15 covers your ride to and from BLACK HEARTS, free beer on the bus and entry into the show! \nCall 312-256-5906 for more details 
LOCATION:Black Hearts - 124 Main St, West Chicago, IL, 60185, US
END:VEVENT

END:VCALENDAR
