BEGIN:VCALENDAR
VERSION:2.0
BEGIN:VEVENT
CLASS:PUBLIC
CATEGORIES:MEETING
DTSTART;TZID=America/New_York:20110319T190000
DTEND;TZID=America/New_York:20110319T190000
SUMMARY:Married with Chitlins at Chocolate Church
DESCRIPTION:Price: 12\nAge Limit: All Ages\n\nDetails: We will be part of the Natives Are Restless Show
LOCATION:Chocolate Church - 804 Washington St, Bath, ME, 04530-2617, US
END:VEVENT

END:VCALENDAR
