BEGIN:VCALENDAR
VERSION:2.0
BEGIN:VEVENT
CLASS:PUBLIC
CATEGORIES:MEETING
DTSTART;TZID=Europe/London:20110411T200000
DTEND;TZID=Europe/London:20110411T200000
SUMMARY:Jose Gonzalez at Barbican
DESCRIPTION:
LOCATION:Barbican - London, UK
END:VEVENT

END:VCALENDAR
