BEGIN:VCALENDAR
VERSION:2.0
BEGIN:VEVENT
CLASS:PUBLIC
CATEGORIES:MEETING
DTSTART;TZID=Europe/Amsterdam:20101201T120000
DTEND;TZID=Europe/Amsterdam:20101201T120000
SUMMARY:SXtheMadArtist at GETV Live Broadcasting
DESCRIPTION:Age Limit: 18+ or w/ adult\n\nDetails: GETV LIVE BROADCASTING: 00:00 (CET) MIDNIGHT MANIA. YOUR HOST: DOC TRANCE. \nhttp://www.livestream.com/gagaelektrix
LOCATION:GETV Live Broadcasting - Utrecht, Utrecht, UT, NL
END:VEVENT

END:VCALENDAR
