BEGIN:VCALENDAR
VERSION:2.0
BEGIN:VEVENT
CLASS:PUBLIC
CATEGORIES:MEETING
DTSTART;TZID=Australia/Brisbane:20110501T150000
DTEND;TZID=Australia/Brisbane:20110501T150000
SUMMARY:Saamis at The Tempo Hotel
DESCRIPTION:Price: $20pre-sold $30 Door\nClick here to buy tickets: http://www.scorcherfest.com.au\nAge Limit: 18+ or w/ adult\n\nDetails: Presented by RAVE MAGAZINE!\nPlease quote ONE A D if purchasing tickets at the door...
LOCATION:The Tempo Hotel - 388 Brunswick St, Brisbane, QLD, 4006, AU
END:VEVENT

END:VCALENDAR
