BEGIN:VCALENDAR
VERSION:2.0
BEGIN:VEVENT
CLASS:PUBLIC
CATEGORIES:MEETING
DTSTART;TZID=America/Chicago:20101217T200000
DTEND;TZID=America/Chicago:20101217T200000
SUMMARY:The Uniphonics at The Washington
DESCRIPTION:Age Limit: 21+
LOCATION:The Washington - 306 Washington St, Burlington, IA, 52638, US
END:VEVENT

END:VCALENDAR
