BEGIN:VCALENDAR
VERSION:2.0
BEGIN:VEVENT
CLASS:PUBLIC
CATEGORIES:MEETING
DTSTART;TZID=America/New_York:20101219T200000
DTEND;TZID=America/New_York:20101219T200000
SUMMARY:Michael Holland at Local 506
DESCRIPTION:Click here to buy tickets: http://www.etix.com/ticket/online/venueSearch.jsp?venue_id=1309&amp;cobrand=white\nAge Limit: All Ages\n\nDetails: FULL band show! Big Fat Gap Bluegrass band Christmas Extravaganza. \n\nGreg will play a solo set with special guests from members of Big Fat Gap and Mandolin Orange.\n
LOCATION:Local 506 - 506 W Franklin St, Chapel Hill, NC, 27516, US
END:VEVENT

END:VCALENDAR
