BEGIN:VCALENDAR
VERSION:2.0
BEGIN:VEVENT
CLASS:PUBLIC
CATEGORIES:MEETING
DTSTART;TZID=America/New_York:20100814T200000
DTEND;TZID=America/New_York:20100814T200000
SUMMARY:Almanac Mountain at Goodnight, John Boy
DESCRIPTION:Price: $8 Suggested Donation\nAge Limit: All Ages\n\nDetails: The 2nd Goodnight, John Boy concert.  The series will now take place at the New Studio, in studio 402 of the Upper Mill in Rollinsford, NH.
LOCATION:Goodnight, John Boy - The New Studio, 402 Upper Mill, Rollinsford, NH, 03869, US
END:VEVENT

END:VCALENDAR
