BEGIN:VCALENDAR
VERSION:2.0
BEGIN:VEVENT
CLASS:PUBLIC
CATEGORIES:MEETING
DTSTART;TZID=America/Los_Angeles:20260911T193000
DTEND;TZID=America/Los_Angeles:20260911T193000
SUMMARY:Mike Massé at Almost Famous Wine Company
DESCRIPTION:Price: Tickets start at $18\nClick here to buy tickets: https://www.eventbrite.com/e/mike-masse-epic-acoustic-classic-rock-tickets-1987963519401?aff=revnat&amp;keep_tld=true\nAge Limit: 21+\n\nDetails: Soulful acoustic renditions of classic rock that have earned 200M views on YouTube and been praised by the original artists themselves!\n\n21+ | Bar opens 6:30 pm. Happy hour 6:30 – 7 pm. Show starts 7:30 pm.\n\nTwo-drink minimum per guest. Come early for happy hour specials!\n\n\nDon’t miss this intimate evening with Mike Massé, the renowned cover artist, as he performs at Almost Famous for the first time. Known for his soulful acoustic renditions of timeless classics on his widely viewed YouTube channel (200M views), Mike Massé brings his signature style to a stunning selection of songs that span decades of classic rock, offering a captivating and memorable musical experience.\n\nWhether you’re a long-time fan or new to his talent, Mike’s performance will transform the evening into something truly unforgettable, with acoustic renditions of songs by artists like The Beatles, Elton John, Simon &amp; Garfunkel, and more. His powerful vocals and intricate guitar skills have even earned praise from the original artists themselves:\n\n“Toto’s favorite cover of ‘Africa’!” – Yahoo! Music\n\n“Terrific!” – Dennis DeYoung (Styx)\n\n“Love this cover!” – Sarah McLachlan\n\n“Beautiful. Great job!” – Geddy Lee (Rush)\n\nDon’t miss this chance to experience Mike Massé live — a night of epic acoustic classic rock, shared with a truly special audience. Cover the music, cover the world.\n\n\nSee them live at Almost Famous Wine Lounge, an award-winning tasting room and world-class music venue located in the heart of Livermore&#39;s urban wine, spirits and brewery district.
LOCATION:Almost Famous Wine Company - 2271 South Vasco Road, Livermore, CA, 94550, US
END:VEVENT

END:VCALENDAR
