BEGIN:VCALENDAR
VERSION:2.0
BEGIN:VEVENT
CLASS:PUBLIC
CATEGORIES:MEETING
DTSTART;TZID=America/New_York:20260705T140000
DTEND;TZID=America/New_York:20260705T140000
SUMMARY:Eleni Skiba at Frazier Creek Brewing and Distilling Co.
DESCRIPTION:Age Limit: All Ages\n\nDetails: Samantha Russell Duo
LOCATION:Frazier Creek Brewing and Distilling Co. - 973 Southeast Federal Highway, Stuart, FL, 34994, US
END:VEVENT

END:VCALENDAR
