BEGIN:VCALENDAR
VERSION:2.0
BEGIN:VEVENT
CLASS:PUBLIC
CATEGORIES:MEETING
DTSTART;TZID=America/New_York:20260618T180000
DTEND;TZID=America/New_York:20260618T180000
SUMMARY:Eleni Skiba at Archie's Seabreeze
DESCRIPTION:Age Limit: All Ages\n\nDetails: MizBehavin&#39;
LOCATION:Archie's Seabreeze - 401 S Ocean Dr, Fort Pierce, FL, 34949, US
END:VEVENT

END:VCALENDAR
