BEGIN:VCALENDAR
VERSION:2.0
BEGIN:VEVENT
CLASS:PUBLIC
CATEGORIES:MEETING
DTSTART;TZID=America/New_York:20260509T160000
DTEND;TZID=America/New_York:20260509T160000
SUMMARY:Eleni Skiba at LOANDEPOT PARK
DESCRIPTION:Price: 32.20\nClick here to buy tickets: https://mlb.tickets.com/?tfl=Miami_Marlins-Tickets-Barbie_Game_Day%E2%84%A2-Ticket_Grid_Buy_Now_Button-x0-Desktop-Landscape&amp;adobe_mc=MCMID%3D86947146625176381822352721404298150470%7CMCORGID%3DA65F776A5245B01B0A490D44%40AdobeOrg%7CTS%3D1776959493&amp;agency=ML\nAge Limit: All Ages\n\nDetails: You’re invited to our third annual Barbie Game Day™ party on Saturday, May 9 when we take on the Nationals at 4:10PM. Ticket package includes an exclusive Barbie™ x Marlins hat. Plus, enjoy postgame entertainment on the West Plaza featuring Miz Behavin&#39;, an all-female cover band on the West Plaza.\n\nDon’t miss it — it’s time to paint the ballpark pink!
LOCATION:LOANDEPOT PARK - 501 Marlins Way, Miami, FL, 33125, US
END:VEVENT

END:VCALENDAR
